BEGIN:VCALENDAR
VERSION:2.0
PRODID:-//ChamberMaster//Event Calendar 2.0//EN
METHOD:PUBLISH
X-PUBLISHED-TTL:P1H
REFRESH-INTERVAL:P1H
CALSCALE:GREGORIAN
BEGIN:VTIMEZONE
TZID:America/Chicago
BEGIN:DAYLIGHT
RRULE:FREQ=YEARLY;BYMONTH=3;BYDAY=2SU
DTSTART:20070101T000000
TZOFFSETFROM:-0600
TZOFFSETTO:-0500
TZNAME:Central Daylight Time
END:DAYLIGHT
BEGIN:STANDARD
RRULE:FREQ=YEARLY;BYMONTH=11;BYDAY=1SU
DTSTART:20070101T000000
TZOFFSETFROM:-0500
TZOFFSETTO:-0600
TZNAME:Central Standard Time
END:STANDARD
END:VTIMEZONE
BEGIN:VEVENT
DTSTART;TZID=America/Chicago:20241118T073000
DTEND;TZID=America/Chicago:20241119T153000
X-MICROSOFT-CDO-ALLDAYEVENT:FALSE
SUMMARY:The University of Texas Systemwide Brain Research Summit 2024
DESCRIPTION:Join the UT system as they welcome top scientists\, researchers\, health care experts\, and key partners for this immersive two-day event dedicated to advancing brain research.  Engage in deep-dive discussions and panel sessions\, share groundbreaking advancements\, forge connections and address the pressing challenges and opportunities to advance brain disease treatment and drive the future of brain research across UT institutions and beyond.
X-ALT-DESC;FMTTYPE=text/html:Join the UT system as they welcome top scientists\, researchers\, health care experts\, and key partners for this immersive two-day event dedicated to advancing brain research.  Engage in deep-dive discussions and panel sessions\, share groundbreaking advancements\, forge connections and address the pressing challenges and opportunities to advance brain disease treatment and drive the future of brain research across UT institutions and beyond.
LOCATION:1900 University Ave Austin TX 78705
UID:e.3812.1067879
SEQUENCE:3
DTSTAMP:20260423T150328Z
URL:https://business.biontx.org/biontx-event-calendar/Details/the-university-of-texas-systemwide-brain-research-summit-2024-1230707?sourceTypeId=Hub
END:VEVENT
END:VCALENDAR
